BEGIN:VCALENDAR
VERSION:2.0
PRODID:-//전주전통문화연수원 - ECPv6.15.15//NONSGML v1.0//EN
CALSCALE:GREGORIAN
METHOD:PUBLISH
X-WR-CALNAME:전주전통문화연수원
X-ORIGINAL-URL:https://www.dongheon.or.kr
X-WR-CALDESC:전주전통문화연수원 이벤트
REFRESH-INTERVAL;VALUE=DURATION:PT1H
X-Robots-Tag:noindex
X-PUBLISHED-TTL:PT1H
BEGIN:VTIMEZONE
TZID:Asia/Tokyo
BEGIN:STANDARD
TZOFFSETFROM:+0900
TZOFFSETTO:+0900
TZNAME:JST
DTSTART:20100101T000000
END:STANDARD
END:VTIMEZONE
BEGIN:VEVENT
DTSTART;TZID=Asia/Tokyo:20110415T010000
DTEND;TZID=Asia/Tokyo:20110415T060000
DTSTAMP:20260426T005825
CREATED:20250429T002259Z
LAST-MODIFIED:20250429T002259Z
UID:3290-1302829200-1302847200@www.dongheon.or.kr
SUMMARY:전주전통문화연수원 개원
DESCRIPTION:전주전통문화연수원 개원 고유제
URL:https://www.dongheon.or.kr/event/%ec%a0%84%ec%a3%bc%ec%a0%84%ed%86%b5%eb%ac%b8%ed%99%94%ec%97%b0%ec%88%98%ec%9b%90-%ea%b0%9c%ec%9b%90/
CATEGORIES:기타
END:VEVENT
BEGIN:VEVENT
DTSTART;TZID=Asia/Tokyo:20110428T200000
DTEND;TZID=Asia/Tokyo:20110430T003000
DTSTAMP:20260426T005825
CREATED:20250429T002300Z
LAST-MODIFIED:20250429T002300Z
UID:3292-1304020800-1304123400@www.dongheon.or.kr
SUMMARY:서울시 교육청
DESCRIPTION:제 1 회 전주전통문화연수곽노현 서울시 교육감 외 교육장 21명
URL:https://www.dongheon.or.kr/event/%ec%84%9c%ec%9a%b8%ec%8b%9c-%ea%b5%90%ec%9c%a1%ec%b2%ad/
CATEGORIES:기타
END:VEVENT
END:VCALENDAR