BEGIN:VCALENDAR
VERSION:2.0
PRODID:-//전주전통문화연수원 - ECPv6.15.15//NONSGML v1.0//EN
CALSCALE:GREGORIAN
METHOD:PUBLISH
X-ORIGINAL-URL:https://www.dongheon.or.kr
X-WR-CALDESC:전주전통문화연수원 이벤트
REFRESH-INTERVAL;VALUE=DURATION:PT1H
X-Robots-Tag:noindex
X-PUBLISHED-TTL:PT1H
BEGIN:VTIMEZONE
TZID:Asia/Tokyo
BEGIN:STANDARD
TZOFFSETFROM:+0900
TZOFFSETTO:+0900
TZNAME:JST
DTSTART:20100101T000000
END:STANDARD
END:VTIMEZONE
BEGIN:VEVENT
DTSTART;TZID=Asia/Tokyo:20110623T230000
DTEND;TZID=Asia/Tokyo:20110624T200000
DTSTAMP:20260425T212916
CREATED:20250429T002336Z
LAST-MODIFIED:20250429T002336Z
UID:3308-1308870000-1308945600@www.dongheon.or.kr
SUMMARY:전주MBC
DESCRIPTION:MBC 9社 편성부장 회의 및 연수
URL:https://www.dongheon.or.kr/event/%ec%a0%84%ec%a3%bcmbc-3/
CATEGORIES:기타
END:VEVENT
END:VCALENDAR