BEGIN:VCALENDAR
VERSION:2.0
PRODID:-//전주전통문화연수원 - ECPv6.15.15//NONSGML v1.0//EN
CALSCALE:GREGORIAN
METHOD:PUBLISH
X-ORIGINAL-URL:https://www.dongheon.or.kr
X-WR-CALDESC:전주전통문화연수원 이벤트
REFRESH-INTERVAL;VALUE=DURATION:PT1H
X-Robots-Tag:noindex
X-PUBLISHED-TTL:PT1H
BEGIN:VTIMEZONE
TZID:Asia/Tokyo
BEGIN:STANDARD
TZOFFSETFROM:+0900
TZOFFSETTO:+0900
TZNAME:JST
DTSTART:20110101T000000
END:STANDARD
END:VTIMEZONE
BEGIN:VEVENT
DTSTART;TZID=Asia/Tokyo:20120110T180000
DTEND;TZID=Asia/Tokyo:20120114T030000
DTSTAMP:20260425T103903
CREATED:20250429T002751Z
LAST-MODIFIED:20250429T002751Z
UID:3356-1326218400-1326510000@www.dongheon.or.kr
SUMMARY:한자문화캠프
DESCRIPTION:2011 동계 한자 문화캠프전주시평생학습센터 & 완산청소년문화의집
URL:https://www.dongheon.or.kr/event/%ed%95%9c%ec%9e%90%eb%ac%b8%ed%99%94%ec%ba%a0%ed%94%84-2/
CATEGORIES:기타
END:VEVENT
BEGIN:VEVENT
DTSTART;TZID=Asia/Tokyo:20120126T210000
DTEND;TZID=Asia/Tokyo:20120127T023000
DTSTAMP:20260425T103903
CREATED:20250429T002752Z
LAST-MODIFIED:20250429T002752Z
UID:3358-1327611600-1327631400@www.dongheon.or.kr
SUMMARY:전주덕일중학교 독서반 모임
DESCRIPTION:전주전통문화연수원 체험
URL:https://www.dongheon.or.kr/event/%ec%a0%84%ec%a3%bc%eb%8d%95%ec%9d%bc%ec%a4%91%ed%95%99%ea%b5%90-%eb%8f%85%ec%84%9c%eb%b0%98-%eb%aa%a8%ec%9e%84/
CATEGORIES:기타
END:VEVENT
END:VCALENDAR