BEGIN:VCALENDAR
VERSION:2.0
PRODID:-//전주전통문화연수원 - ECPv6.15.15//NONSGML v1.0//EN
CALSCALE:GREGORIAN
METHOD:PUBLISH
X-ORIGINAL-URL:https://www.dongheon.or.kr
X-WR-CALDESC:전주전통문화연수원 이벤트
REFRESH-INTERVAL;VALUE=DURATION:PT1H
X-Robots-Tag:noindex
X-PUBLISHED-TTL:PT1H
BEGIN:VTIMEZONE
TZID:Asia/Tokyo
BEGIN:STANDARD
TZOFFSETFROM:+0900
TZOFFSETTO:+0900
TZNAME:JST
DTSTART:20110101T000000
END:STANDARD
END:VTIMEZONE
BEGIN:VEVENT
DTSTART;TZID=Asia/Tokyo:20120417T180000
DTEND;TZID=Asia/Tokyo:20120417T210000
DTSTAMP:20260425T055303
CREATED:20250429T003151Z
LAST-MODIFIED:20250429T003151Z
UID:3366-1334685600-1334696400@www.dongheon.or.kr
SUMMARY:강암연묵회
DESCRIPTION:‘백납병’ 전주전통문화연수원 기증행사 및 전통문화연수 체험
URL:https://www.dongheon.or.kr/event/%ea%b0%95%ec%95%94%ec%97%b0%eb%ac%b5%ed%9a%8c/
CATEGORIES:기타
END:VEVENT
END:VCALENDAR