BEGIN:VCALENDAR
VERSION:2.0
PRODID:-//전주전통문화연수원 - ECPv6.15.15//NONSGML v1.0//EN
CALSCALE:GREGORIAN
METHOD:PUBLISH
X-WR-CALNAME:전주전통문화연수원
X-ORIGINAL-URL:https://www.dongheon.or.kr
X-WR-CALDESC:전주전통문화연수원 이벤트
REFRESH-INTERVAL;VALUE=DURATION:PT1H
X-Robots-Tag:noindex
X-PUBLISHED-TTL:PT1H
BEGIN:VTIMEZONE
TZID:Asia/Tokyo
BEGIN:STANDARD
TZOFFSETFROM:+0900
TZOFFSETTO:+0900
TZNAME:JST
DTSTART:20110101T000000
END:STANDARD
END:VTIMEZONE
BEGIN:VEVENT
DTSTART;TZID=Asia/Tokyo:20120630T180000
DTEND;TZID=Asia/Tokyo:20120702T000000
DTSTAMP:20260425T023922
CREATED:20250429T004013Z
LAST-MODIFIED:20250429T004013Z
UID:3389-1341079200-1341187200@www.dongheon.or.kr
SUMMARY:자운회 전북 투어
DESCRIPTION:전통문화연수체험
URL:https://www.dongheon.or.kr/event/%ec%9e%90%ec%9a%b4%ed%9a%8c-%ec%a0%84%eb%b6%81-%ed%88%ac%ec%96%b4/
CATEGORIES:기타
END:VEVENT
END:VCALENDAR