BEGIN:VCALENDAR
VERSION:2.0
PRODID:-//전주전통문화연수원 - ECPv6.15.15//NONSGML v1.0//EN
CALSCALE:GREGORIAN
METHOD:PUBLISH
X-WR-CALNAME:전주전통문화연수원
X-ORIGINAL-URL:https://www.dongheon.or.kr
X-WR-CALDESC:전주전통문화연수원 이벤트
REFRESH-INTERVAL;VALUE=DURATION:PT1H
X-Robots-Tag:noindex
X-PUBLISHED-TTL:PT1H
BEGIN:VTIMEZONE
TZID:Asia/Tokyo
BEGIN:STANDARD
TZOFFSETFROM:+0900
TZOFFSETTO:+0900
TZNAME:JST
DTSTART:20110101T000000
END:STANDARD
END:VTIMEZONE
BEGIN:VEVENT
DTSTART;TZID=Asia/Tokyo:20120731T180000
DTEND;TZID=Asia/Tokyo:20120804T030000
DTSTAMP:20260424T223900
CREATED:20250429T004526Z
LAST-MODIFIED:20250429T004526Z
UID:3403-1343757600-1344049200@www.dongheon.or.kr
SUMMARY:한자문화캠프
DESCRIPTION:2012 하계 한자 문화캠프전주시평생학습센터 & 완산청소년문화의집
URL:https://www.dongheon.or.kr/event/%ed%95%9c%ec%9e%90%eb%ac%b8%ed%99%94%ec%ba%a0%ed%94%84-3/
CATEGORIES:기타
END:VEVENT
BEGIN:VEVENT
DTSTART;TZID=Asia/Tokyo:20120813T180000
DTEND;TZID=Asia/Tokyo:20120817T030000
DTSTAMP:20260424T223900
CREATED:20250429T004926Z
LAST-MODIFIED:20250429T004926Z
UID:3410-1344880800-1345172400@www.dongheon.or.kr
SUMMARY:한자문화캠프
DESCRIPTION:완주교육청 한자캠프
URL:https://www.dongheon.or.kr/event/%ed%95%9c%ec%9e%90%eb%ac%b8%ed%99%94%ec%ba%a0%ed%94%84-4/
CATEGORIES:기타
END:VEVENT
BEGIN:VEVENT
DTSTART;TZID=Asia/Tokyo:20120820T180000
DTEND;TZID=Asia/Tokyo:20120822T010000
DTSTAMP:20260424T223900
CREATED:20250429T004927Z
LAST-MODIFIED:20250429T004927Z
UID:3412-1345485600-1345597200@www.dongheon.or.kr
SUMMARY:정읍감곡중학교
DESCRIPTION:전통문화연수체험
URL:https://www.dongheon.or.kr/event/%ec%a0%95%ec%9d%8d%ea%b0%90%ea%b3%a1%ec%a4%91%ed%95%99%ea%b5%90/
CATEGORIES:기타
END:VEVENT
BEGIN:VEVENT
DTSTART;TZID=Asia/Tokyo:20120824T180000
DTEND;TZID=Asia/Tokyo:20120826T030000
DTSTAMP:20260424T223900
CREATED:20250429T005126Z
LAST-MODIFIED:20250429T005126Z
UID:3416-1345831200-1345950000@www.dongheon.or.kr
SUMMARY:한국과학기술연구원
DESCRIPTION:전통문화연수체험
URL:https://www.dongheon.or.kr/event/%ed%95%9c%ea%b5%ad%ea%b3%bc%ed%95%99%ea%b8%b0%ec%88%a0%ec%97%b0%ea%b5%ac%ec%9b%90/
CATEGORIES:기타
END:VEVENT
END:VCALENDAR