BEGIN:VCALENDAR
VERSION:2.0
PRODID:-//전주전통문화연수원 - ECPv6.15.15//NONSGML v1.0//EN
CALSCALE:GREGORIAN
METHOD:PUBLISH
X-ORIGINAL-URL:https://www.dongheon.or.kr
X-WR-CALDESC:전주전통문화연수원 이벤트
REFRESH-INTERVAL;VALUE=DURATION:PT1H
X-Robots-Tag:noindex
X-PUBLISHED-TTL:PT1H
BEGIN:VTIMEZONE
TZID:Asia/Tokyo
BEGIN:STANDARD
TZOFFSETFROM:+0900
TZOFFSETTO:+0900
TZNAME:JST
DTSTART:20110101T000000
END:STANDARD
END:VTIMEZONE
BEGIN:VEVENT
DTSTART;TZID=Asia/Tokyo:20121205T220000
DTEND;TZID=Asia/Tokyo:20121207T010000
DTSTAMP:20260424T161521
CREATED:20250429T010503Z
LAST-MODIFIED:20250429T010503Z
UID:3460-1354744800-1354842000@www.dongheon.or.kr
SUMMARY:슬로시티 지자체 워크숍
DESCRIPTION:전주시청 한스타일과
URL:https://www.dongheon.or.kr/event/%ec%8a%ac%eb%a1%9c%ec%8b%9c%ed%8b%b0-%ec%a7%80%ec%9e%90%ec%b2%b4-%ec%9b%8c%ed%81%ac%ec%88%8d/
CATEGORIES:기타
END:VEVENT
BEGIN:VEVENT
DTSTART;TZID=Asia/Tokyo:20121207T220000
DTEND;TZID=Asia/Tokyo:20121208T020000
DTSTAMP:20260424T161521
CREATED:20250429T010504Z
LAST-MODIFIED:20250429T010504Z
UID:3461-1354917600-1354932000@www.dongheon.or.kr
SUMMARY:함평 철성권역
DESCRIPTION:당일 연수
URL:https://www.dongheon.or.kr/event/%ed%95%a8%ed%8f%89-%ec%b2%a0%ec%84%b1%ea%b6%8c%ec%97%ad/
CATEGORIES:기타
END:VEVENT
BEGIN:VEVENT
DTSTART;TZID=Asia/Tokyo:20121218T190000
DTEND;TZID=Asia/Tokyo:20121219T010000
DTSTAMP:20260424T161521
CREATED:20250429T010504Z
LAST-MODIFIED:20250429T010504Z
UID:3462-1355857200-1355878800@www.dongheon.or.kr
SUMMARY:임실오수고등학교
DESCRIPTION:전통문화연수체험 당일과정 20명
URL:https://www.dongheon.or.kr/event/%ec%9e%84%ec%8b%a4%ec%98%a4%ec%88%98%ea%b3%a0%eb%93%b1%ed%95%99%ea%b5%90/
CATEGORIES:기타
END:VEVENT
BEGIN:VEVENT
DTSTART;TZID=Asia/Tokyo:20121222T190000
DTEND;TZID=Asia/Tokyo:20121223T220000
DTSTAMP:20260424T161521
CREATED:20250429T010702Z
LAST-MODIFIED:20250429T010702Z
UID:3463-1356202800-1356300000@www.dongheon.or.kr
SUMMARY:한국을 찾아 떠나는 가족여행
DESCRIPTION:부자유친 가족 연수 1박2일
URL:https://www.dongheon.or.kr/event/%ed%95%9c%ea%b5%ad%ec%9d%84-%ec%b0%be%ec%95%84-%eb%96%a0%eb%82%98%eb%8a%94-%ea%b0%80%ec%a1%b1%ec%97%ac%ed%96%89-2/
CATEGORIES:기타
END:VEVENT
END:VCALENDAR