BEGIN:VCALENDAR
VERSION:2.0
PRODID:-//전주전통문화연수원 - ECPv6.15.15//NONSGML v1.0//EN
CALSCALE:GREGORIAN
METHOD:PUBLISH
X-WR-CALNAME:전주전통문화연수원
X-ORIGINAL-URL:https://www.dongheon.or.kr
X-WR-CALDESC:전주전통문화연수원 이벤트
REFRESH-INTERVAL;VALUE=DURATION:PT1H
X-Robots-Tag:noindex
X-PUBLISHED-TTL:PT1H
BEGIN:VTIMEZONE
TZID:Asia/Tokyo
BEGIN:STANDARD
TZOFFSETFROM:+0900
TZOFFSETTO:+0900
TZNAME:JST
DTSTART:20120101T000000
END:STANDARD
END:VTIMEZONE
BEGIN:VEVENT
DTSTART;TZID=Asia/Tokyo:20130604T090000
DTEND;TZID=Asia/Tokyo:20130609T090000
DTSTAMP:20260424T070630
CREATED:20250429T011745Z
LAST-MODIFIED:20250429T011745Z
UID:3519-1370336400-1370768400@www.dongheon.or.kr
SUMMARY:인문학 한마당 관리 기간
DESCRIPTION:2013 전주 인문학 한마당 사전 준비 및 정리 기간
URL:https://www.dongheon.or.kr/event/%ec%9d%b8%eb%ac%b8%ed%95%99-%ed%95%9c%eb%a7%88%eb%8b%b9-%ea%b4%80%eb%a6%ac-%ea%b8%b0%ea%b0%84/
CATEGORIES:기타
END:VEVENT
BEGIN:VEVENT
DTSTART;TZID=Asia/Tokyo:20130610T090000
DTEND;TZID=Asia/Tokyo:20130611T090000
DTSTAMP:20260424T070630
CREATED:20250429T011747Z
LAST-MODIFIED:20250429T011747Z
UID:3522-1370854800-1370941200@www.dongheon.or.kr
SUMMARY:연수원 관리 기간
DESCRIPTION:연수원 관리 기간
URL:https://www.dongheon.or.kr/event/%ec%97%b0%ec%88%98%ec%9b%90-%ea%b4%80%eb%a6%ac-%ea%b8%b0%ea%b0%84-2/
CATEGORIES:기타
END:VEVENT
END:VCALENDAR