BEGIN:VCALENDAR
VERSION:2.0
PRODID:-//전주전통문화연수원 - ECPv6.15.15//NONSGML v1.0//EN
CALSCALE:GREGORIAN
METHOD:PUBLISH
X-ORIGINAL-URL:https://www.dongheon.or.kr
X-WR-CALDESC:전주전통문화연수원 이벤트
REFRESH-INTERVAL;VALUE=DURATION:PT1H
X-Robots-Tag:noindex
X-PUBLISHED-TTL:PT1H
BEGIN:VTIMEZONE
TZID:Asia/Tokyo
BEGIN:STANDARD
TZOFFSETFROM:+0900
TZOFFSETTO:+0900
TZNAME:JST
DTSTART:20120101T000000
END:STANDARD
END:VTIMEZONE
BEGIN:VEVENT
DTSTART;TZID=Asia/Tokyo:20130901T090000
DTEND;TZID=Asia/Tokyo:20130906T090000
DTSTAMP:20260424T024733
CREATED:20250429T011913Z
LAST-MODIFIED:20250429T011913Z
UID:3549-1378026000-1378458000@www.dongheon.or.kr
SUMMARY:연수원 관리 기간
DESCRIPTION:연수원 내부 수리 및 정비
URL:https://www.dongheon.or.kr/event/%ec%97%b0%ec%88%98%ec%9b%90-%ea%b4%80%eb%a6%ac-%ea%b8%b0%ea%b0%84-4/
CATEGORIES:기타
END:VEVENT
BEGIN:VEVENT
DTSTART;TZID=Asia/Tokyo:20130918T090000
DTEND;TZID=Asia/Tokyo:20130920T090000
DTSTAMP:20260424T024733
CREATED:20250429T011930Z
LAST-MODIFIED:20250429T011930Z
UID:3555-1379494800-1379667600@www.dongheon.or.kr
SUMMARY:추석[秋夕]
DESCRIPTION:음력 8월 15일 중추절(仲秋節)
URL:https://www.dongheon.or.kr/event/%ec%b6%94%ec%84%9d%e7%a7%8b%e5%a4%95/
CATEGORIES:기타
END:VEVENT
END:VCALENDAR