BEGIN:VCALENDAR
VERSION:2.0
PRODID:-//전주전통문화연수원 - ECPv6.15.15//NONSGML v1.0//EN
CALSCALE:GREGORIAN
METHOD:PUBLISH
X-ORIGINAL-URL:https://www.dongheon.or.kr
X-WR-CALDESC:전주전통문화연수원 이벤트
REFRESH-INTERVAL;VALUE=DURATION:PT1H
X-Robots-Tag:noindex
X-PUBLISHED-TTL:PT1H
BEGIN:VTIMEZONE
TZID:Asia/Tokyo
BEGIN:STANDARD
TZOFFSETFROM:+0900
TZOFFSETTO:+0900
TZNAME:JST
DTSTART:20120101T000000
END:STANDARD
END:VTIMEZONE
BEGIN:VEVENT
DTSTART;TZID=Asia/Tokyo:20131006T090000
DTEND;TZID=Asia/Tokyo:20131015T090000
DTSTAMP:20260424T012537
CREATED:20250429T011949Z
LAST-MODIFIED:20250429T011952Z
UID:3560-1381050000-1381827600@www.dongheon.or.kr
SUMMARY:평생학습한마당 관리 기간
DESCRIPTION:제8회 평생학습한마당 사전 준비 및 정리 기간
URL:https://www.dongheon.or.kr/event/%ed%8f%89%ec%83%9d%ed%95%99%ec%8a%b5%ed%95%9c%eb%a7%88%eb%8b%b9-%ea%b4%80%eb%a6%ac-%ea%b8%b0%ea%b0%84-2/
CATEGORIES:기타
END:VEVENT
END:VCALENDAR