BEGIN:VCALENDAR
VERSION:2.0
PRODID:-//전주전통문화연수원 - ECPv6.15.15//NONSGML v1.0//EN
CALSCALE:GREGORIAN
METHOD:PUBLISH
X-ORIGINAL-URL:https://www.dongheon.or.kr
X-WR-CALDESC:전주전통문화연수원 이벤트
REFRESH-INTERVAL;VALUE=DURATION:PT1H
X-Robots-Tag:noindex
X-PUBLISHED-TTL:PT1H
BEGIN:VTIMEZONE
TZID:Asia/Tokyo
BEGIN:STANDARD
TZOFFSETFROM:+0900
TZOFFSETTO:+0900
TZNAME:JST
DTSTART:20130101T000000
END:STANDARD
END:VTIMEZONE
BEGIN:VEVENT
DTSTART;TZID=Asia/Tokyo:20140916T090000
DTEND;TZID=Asia/Tokyo:20140922T090000
DTSTAMP:20260421T085932
CREATED:20250429T012717Z
LAST-MODIFIED:20250429T012717Z
UID:3691-1410858000-1411376400@www.dongheon.or.kr
SUMMARY:평생학습한마당 관리 기간
DESCRIPTION:제9회 평생학습한마당 사전 준비 및 정리 기간
URL:https://www.dongheon.or.kr/event/%ed%8f%89%ec%83%9d%ed%95%99%ec%8a%b5%ed%95%9c%eb%a7%88%eb%8b%b9-%ea%b4%80%eb%a6%ac-%ea%b8%b0%ea%b0%84-3/
CATEGORIES:기타
END:VEVENT
BEGIN:VEVENT
DTSTART;TZID=Asia/Tokyo:20140927T230000
DTEND;TZID=Asia/Tokyo:20140928T010000
DTSTAMP:20260421T085932
CREATED:20250429T012727Z
LAST-MODIFIED:20250429T012727Z
UID:3697-1411858800-1411866000@www.dongheon.or.kr
SUMMARY:전주한옥마을 승람도 런닝맨
DESCRIPTION:전주 한옥마을의 이색 투어””다같이 돌자 동네 한바퀴””
URL:https://www.dongheon.or.kr/event/%ec%a0%84%ec%a3%bc%ed%95%9c%ec%98%a5%eb%a7%88%ec%9d%84-%ec%8a%b9%eb%9e%8c%eb%8f%84-%eb%9f%b0%eb%8b%9d%eb%a7%a8-5/
CATEGORIES:기타
END:VEVENT
END:VCALENDAR