BEGIN:VCALENDAR
VERSION:2.0
PRODID:-//전주전통문화연수원 - ECPv6.15.15//NONSGML v1.0//EN
CALSCALE:GREGORIAN
METHOD:PUBLISH
X-ORIGINAL-URL:https://www.dongheon.or.kr
X-WR-CALDESC:전주전통문화연수원 이벤트
REFRESH-INTERVAL;VALUE=DURATION:PT1H
X-Robots-Tag:noindex
X-PUBLISHED-TTL:PT1H
BEGIN:VTIMEZONE
TZID:Asia/Tokyo
BEGIN:STANDARD
TZOFFSETFROM:+0900
TZOFFSETTO:+0900
TZNAME:JST
DTSTART:20150101T000000
END:STANDARD
END:VTIMEZONE
BEGIN:VEVENT
DTSTART;TZID=Asia/Tokyo:20160317T180000
DTEND;TZID=Asia/Tokyo:20160325T030000
DTSTAMP:20260420T032928
CREATED:20250429T014125Z
LAST-MODIFIED:20250429T014125Z
UID:3936-1458237600-1458874800@www.dongheon.or.kr
SUMMARY:연수원 관리 기간
DESCRIPTION:연수원 관리 기간
URL:https://www.dongheon.or.kr/event/%ec%97%b0%ec%88%98%ec%9b%90-%ea%b4%80%eb%a6%ac-%ea%b8%b0%ea%b0%84-8/
CATEGORIES:기타
END:VEVENT
END:VCALENDAR