BEGIN:VCALENDAR
VERSION:2.0
PRODID:-//전주전통문화연수원 - ECPv6.15.15//NONSGML v1.0//EN
CALSCALE:GREGORIAN
METHOD:PUBLISH
X-WR-CALNAME:전주전통문화연수원
X-ORIGINAL-URL:https://www.dongheon.or.kr
X-WR-CALDESC:전주전통문화연수원 이벤트
REFRESH-INTERVAL;VALUE=DURATION:PT1H
X-Robots-Tag:noindex
X-PUBLISHED-TTL:PT1H
BEGIN:VTIMEZONE
TZID:Asia/Tokyo
BEGIN:STANDARD
TZOFFSETFROM:+0900
TZOFFSETTO:+0900
TZNAME:JST
DTSTART:20100101T000000
END:STANDARD
END:VTIMEZONE
BEGIN:VEVENT
DTSTART;TZID=Asia/Tokyo:20111118T223000
DTEND;TZID=Asia/Tokyo:20111119T030000
DTSTAMP:20260425T055718
CREATED:20250429T002534Z
LAST-MODIFIED:20250429T002534Z
UID:3345-1321655400-1321671600@www.dongheon.or.kr
SUMMARY:한국민족예술인총연합회
DESCRIPTION:제8회 문화정책 전국 대토론회
URL:https://www.dongheon.or.kr/event/%ed%95%9c%ea%b5%ad%eb%af%bc%ec%a1%b1%ec%98%88%ec%88%a0%ec%9d%b8%ec%b4%9d%ec%97%b0%ed%95%a9%ed%9a%8c/
CATEGORIES:대관
END:VEVENT
BEGIN:VEVENT
DTSTART;TZID=Asia/Tokyo:20111122T220000
DTEND;TZID=Asia/Tokyo:20111123T030000
DTSTAMP:20260425T055718
CREATED:20250429T002535Z
LAST-MODIFIED:20250429T002535Z
UID:3346-1321999200-1322017200@www.dongheon.or.kr
SUMMARY:전라북도 야학기관 및 문해교육기관
DESCRIPTION:전북 야학기관 및 문해교육 기관 워크숍
URL:https://www.dongheon.or.kr/event/%ec%a0%84%eb%9d%bc%eb%b6%81%eb%8f%84-%ec%95%bc%ed%95%99%ea%b8%b0%ea%b4%80-%eb%b0%8f-%eb%ac%b8%ed%95%b4%ea%b5%90%ec%9c%a1%ea%b8%b0%ea%b4%80/
CATEGORIES:대관
END:VEVENT
END:VCALENDAR