BEGIN:VCALENDAR
VERSION:2.0
PRODID:-//전주전통문화연수원 - ECPv6.15.15//NONSGML v1.0//EN
CALSCALE:GREGORIAN
METHOD:PUBLISH
X-WR-CALNAME:전주전통문화연수원
X-ORIGINAL-URL:https://www.dongheon.or.kr
X-WR-CALDESC:전주전통문화연수원 이벤트
REFRESH-INTERVAL;VALUE=DURATION:PT1H
X-Robots-Tag:noindex
X-PUBLISHED-TTL:PT1H
BEGIN:VTIMEZONE
TZID:Asia/Tokyo
BEGIN:STANDARD
TZOFFSETFROM:+0900
TZOFFSETTO:+0900
TZNAME:JST
DTSTART:20100101T000000
END:STANDARD
END:VTIMEZONE
BEGIN:VEVENT
DTSTART;TZID=Asia/Tokyo:20111228T020000
DTEND;TZID=Asia/Tokyo:20111228T050000
DTSTAMP:20260425T042028
CREATED:20250429T002552Z
LAST-MODIFIED:20250429T002552Z
UID:3354-1325037600-1325048400@www.dongheon.or.kr
SUMMARY:R&D기관·단체 및 민간협의체
DESCRIPTION:전주신산업 리더스 포럼
URL:https://www.dongheon.or.kr/event/rd%ea%b8%b0%ea%b4%80%c2%b7%eb%8b%a8%ec%b2%b4-%eb%b0%8f-%eb%af%bc%ea%b0%84%ed%98%91%ec%9d%98%ec%b2%b4/
CATEGORIES:대관
END:VEVENT
END:VCALENDAR