BEGIN:VCALENDAR
VERSION:2.0
PRODID:-//전주전통문화연수원 - ECPv6.15.15//NONSGML v1.0//EN
CALSCALE:GREGORIAN
METHOD:PUBLISH
X-WR-CALNAME:전주전통문화연수원
X-ORIGINAL-URL:https://www.dongheon.or.kr
X-WR-CALDESC:전주전통문화연수원 이벤트
REFRESH-INTERVAL;VALUE=DURATION:PT1H
X-Robots-Tag:noindex
X-PUBLISHED-TTL:PT1H
BEGIN:VTIMEZONE
TZID:Asia/Tokyo
BEGIN:STANDARD
TZOFFSETFROM:+0900
TZOFFSETTO:+0900
TZNAME:JST
DTSTART:20110101T000000
END:STANDARD
END:VTIMEZONE
BEGIN:VEVENT
DTSTART;TZID=Asia/Tokyo:20120106T200000
DTEND;TZID=Asia/Tokyo:20120107T020000
DTSTAMP:20260425T024247
CREATED:20250429T002750Z
LAST-MODIFIED:20250429T002750Z
UID:3355-1325880000-1325901600@www.dongheon.or.kr
SUMMARY:전주MBC
DESCRIPTION:신년토론회 1부 촬영
URL:https://www.dongheon.or.kr/event/%ec%a0%84%ec%a3%bcmbc-4/
CATEGORIES:대관
END:VEVENT
BEGIN:VEVENT
DTSTART;TZID=Asia/Tokyo:20120120T200000
DTEND;TZID=Asia/Tokyo:20120121T020000
DTSTAMP:20260425T024247
CREATED:20250429T002751Z
LAST-MODIFIED:20250429T002751Z
UID:3357-1327089600-1327111200@www.dongheon.or.kr
SUMMARY:전주MBC
DESCRIPTION:신년토론회 3부 촬영
URL:https://www.dongheon.or.kr/event/%ec%a0%84%ec%a3%bcmbc-5/
CATEGORIES:대관
END:VEVENT
END:VCALENDAR