BEGIN:VCALENDAR
VERSION:2.0
PRODID:-//전주전통문화연수원 - ECPv6.15.15//NONSGML v1.0//EN
CALSCALE:GREGORIAN
METHOD:PUBLISH
X-WR-CALNAME:전주전통문화연수원
X-ORIGINAL-URL:https://www.dongheon.or.kr
X-WR-CALDESC:전주전통문화연수원 이벤트
REFRESH-INTERVAL;VALUE=DURATION:PT1H
X-Robots-Tag:noindex
X-PUBLISHED-TTL:PT1H
BEGIN:VTIMEZONE
TZID:Asia/Tokyo
BEGIN:STANDARD
TZOFFSETFROM:+0900
TZOFFSETTO:+0900
TZNAME:JST
DTSTART:20110101T000000
END:STANDARD
END:VTIMEZONE
BEGIN:VEVENT
DTSTART;TZID=Asia/Tokyo:20120203T190000
DTEND;TZID=Asia/Tokyo:20120204T010000
DTSTAMP:20260425T005448
CREATED:20250429T002752Z
LAST-MODIFIED:20250429T002752Z
UID:3359-1328295600-1328317200@www.dongheon.or.kr
SUMMARY:전주MBC
DESCRIPTION:신년토론회 5부 촬영
URL:https://www.dongheon.or.kr/event/%ec%a0%84%ec%a3%bcmbc-6/
CATEGORIES:대관
END:VEVENT
BEGIN:VEVENT
DTSTART;TZID=Asia/Tokyo:20120229T200000
DTEND;TZID=Asia/Tokyo:20120229T210000
DTSTAMP:20260425T005448
CREATED:20250429T002951Z
LAST-MODIFIED:20250429T002951Z
UID:3361-1330545600-1330549200@www.dongheon.or.kr
SUMMARY:전주시
DESCRIPTION:전주시&고려대학교 민족문화연구원 협약식
URL:https://www.dongheon.or.kr/event/%ec%a0%84%ec%a3%bc%ec%8b%9c/
CATEGORIES:대관
END:VEVENT
END:VCALENDAR