BEGIN:VCALENDAR
VERSION:2.0
PRODID:-//전주전통문화연수원 - ECPv6.15.15//NONSGML v1.0//EN
CALSCALE:GREGORIAN
METHOD:PUBLISH
X-WR-CALNAME:전주전통문화연수원
X-ORIGINAL-URL:https://www.dongheon.or.kr
X-WR-CALDESC:전주전통문화연수원 이벤트
REFRESH-INTERVAL;VALUE=DURATION:PT1H
X-Robots-Tag:noindex
X-PUBLISHED-TTL:PT1H
BEGIN:VTIMEZONE
TZID:Asia/Tokyo
BEGIN:STANDARD
TZOFFSETFROM:+0900
TZOFFSETTO:+0900
TZNAME:JST
DTSTART:20110101T000000
END:STANDARD
END:VTIMEZONE
BEGIN:VEVENT
DTSTART;TZID=Asia/Tokyo:20120511T180000
DTEND;TZID=Asia/Tokyo:20120512T030000
DTSTAMP:20260424T194610
CREATED:20250429T003351Z
LAST-MODIFIED:20250429T003351Z
UID:3372-1336759200-1336791600@www.dongheon.or.kr
SUMMARY:전북발전협의회
DESCRIPTION:동헌 대관
URL:https://www.dongheon.or.kr/event/%ec%a0%84%eb%b6%81%eb%b0%9c%ec%a0%84%ed%98%91%ec%9d%98%ed%9a%8c/
CATEGORIES:대관
END:VEVENT
BEGIN:VEVENT
DTSTART;TZID=Asia/Tokyo:20120531T003000
DTEND;TZID=Asia/Tokyo:20120531T020000
DTSTAMP:20260424T194610
CREATED:20250429T003551Z
LAST-MODIFIED:20250429T003551Z
UID:3376-1338424200-1338429600@www.dongheon.or.kr
SUMMARY:어린이독후활동대회 수상식
DESCRIPTION:독후활동대회 수상식 대관
URL:https://www.dongheon.or.kr/event/%ec%96%b4%eb%a6%b0%ec%9d%b4%eb%8f%85%ed%9b%84%ed%99%9c%eb%8f%99%eb%8c%80%ed%9a%8c-%ec%88%98%ec%83%81%ec%8b%9d/
CATEGORIES:대관
END:VEVENT
BEGIN:VEVENT
DTSTART;TZID=Asia/Tokyo:20120531T230000
DTEND;TZID=Asia/Tokyo:20120601T014000
DTSTAMP:20260424T194610
CREATED:20250429T003552Z
LAST-MODIFIED:20250429T003552Z
UID:3378-1338505200-1338514800@www.dongheon.or.kr
SUMMARY:[지방브랜드 세계화 시범사업] 현지컨설팅
DESCRIPTION:행정안전부·전주시 주최 현지컨설팅 대관
URL:https://www.dongheon.or.kr/event/%ec%a7%80%eb%b0%a9%eb%b8%8c%eb%9e%9c%eb%93%9c-%ec%84%b8%ea%b3%84%ed%99%94-%ec%8b%9c%eb%b2%94%ec%82%ac%ec%97%85-%ed%98%84%ec%a7%80%ec%bb%a8%ec%84%a4%ed%8c%85/
CATEGORIES:대관
END:VEVENT
END:VCALENDAR