BEGIN:VCALENDAR
VERSION:2.0
PRODID:-//전주전통문화연수원 - ECPv6.15.15//NONSGML v1.0//EN
CALSCALE:GREGORIAN
METHOD:PUBLISH
X-ORIGINAL-URL:https://www.dongheon.or.kr
X-WR-CALDESC:전주전통문화연수원 이벤트
REFRESH-INTERVAL;VALUE=DURATION:PT1H
X-Robots-Tag:noindex
X-PUBLISHED-TTL:PT1H
BEGIN:VTIMEZONE
TZID:Asia/Tokyo
BEGIN:STANDARD
TZOFFSETFROM:+0900
TZOFFSETTO:+0900
TZNAME:JST
DTSTART:20110101T000000
END:STANDARD
END:VTIMEZONE
BEGIN:VEVENT
DTSTART;TZID=Asia/Tokyo:20120806T200000
DTEND;TZID=Asia/Tokyo:20120807T020000
DTSTAMP:20260424T150052
CREATED:20250429T004725Z
LAST-MODIFIED:20250429T004725Z
UID:3406-1344283200-1344304800@www.dongheon.or.kr
SUMMARY:전주MBC
DESCRIPTION:촬영
URL:https://www.dongheon.or.kr/event/%ec%a0%84%ec%a3%bcmbc-8/
CATEGORIES:대관
END:VEVENT
END:VCALENDAR