BEGIN:VCALENDAR
VERSION:2.0
PRODID:-//전주전통문화연수원 - ECPv6.15.15//NONSGML v1.0//EN
CALSCALE:GREGORIAN
METHOD:PUBLISH
X-ORIGINAL-URL:https://www.dongheon.or.kr
X-WR-CALDESC:전주전통문화연수원 이벤트
REFRESH-INTERVAL;VALUE=DURATION:PT1H
X-Robots-Tag:noindex
X-PUBLISHED-TTL:PT1H
BEGIN:VTIMEZONE
TZID:Asia/Tokyo
BEGIN:STANDARD
TZOFFSETFROM:+0900
TZOFFSETTO:+0900
TZNAME:JST
DTSTART:20120101T000000
END:STANDARD
END:VTIMEZONE
BEGIN:VEVENT
DTSTART;TZID=Asia/Tokyo:20130619T010000
DTEND;TZID=Asia/Tokyo:20130619T030000
DTSTAMP:20260423T234521
CREATED:20250429T011755Z
LAST-MODIFIED:20250429T011755Z
UID:3526-1371603600-1371610800@www.dongheon.or.kr
SUMMARY:엄마·아빠와 함께하는 그림 그리기 대회 시상식
DESCRIPTION:전주자연생태박물관 개관 5주년 기념엄마·아빠와 함께하는 그림 그리기 대회 시상식
URL:https://www.dongheon.or.kr/event/%ec%97%84%eb%a7%88%c2%b7%ec%95%84%eb%b9%a0%ec%99%80-%ed%95%a8%ea%bb%98%ed%95%98%eb%8a%94-%ea%b7%b8%eb%a6%bc-%ea%b7%b8%eb%a6%ac%ea%b8%b0-%eb%8c%80%ed%9a%8c-%ec%8b%9c%ec%83%81%ec%8b%9d/
CATEGORIES:대관
END:VEVENT
END:VCALENDAR