BEGIN:VCALENDAR
VERSION:2.0
PRODID:-//전주전통문화연수원 - ECPv6.15.15//NONSGML v1.0//EN
CALSCALE:GREGORIAN
METHOD:PUBLISH
X-WR-CALNAME:전주전통문화연수원
X-ORIGINAL-URL:https://www.dongheon.or.kr
X-WR-CALDESC:전주전통문화연수원 이벤트
REFRESH-INTERVAL;VALUE=DURATION:PT1H
X-Robots-Tag:noindex
X-PUBLISHED-TTL:PT1H
BEGIN:VTIMEZONE
TZID:Asia/Tokyo
BEGIN:STANDARD
TZOFFSETFROM:+0900
TZOFFSETTO:+0900
TZNAME:JST
DTSTART:20120101T000000
END:STANDARD
END:VTIMEZONE
BEGIN:VEVENT
DTSTART;TZID=Asia/Tokyo:20131228T190000
DTEND;TZID=Asia/Tokyo:20131228T230000
DTSTAMP:20260421T145403
CREATED:20250429T012113Z
LAST-MODIFIED:20250429T012113Z
UID:3603-1388257200-1388271600@www.dongheon.or.kr
SUMMARY:장도무형문화연구소
DESCRIPTION:일송 장현식선생 관련 출판 기념회
URL:https://www.dongheon.or.kr/event/%ec%9e%a5%eb%8f%84%eb%ac%b4%ed%98%95%eb%ac%b8%ed%99%94%ec%97%b0%ea%b5%ac%ec%86%8c/
CATEGORIES:대관
END:VEVENT
END:VCALENDAR