BEGIN:VCALENDAR
VERSION:2.0
PRODID:-//전주전통문화연수원 - ECPv6.15.15//NONSGML v1.0//EN
CALSCALE:GREGORIAN
METHOD:PUBLISH
X-ORIGINAL-URL:https://www.dongheon.or.kr
X-WR-CALDESC:전주전통문화연수원 이벤트
REFRESH-INTERVAL;VALUE=DURATION:PT1H
X-Robots-Tag:noindex
X-PUBLISHED-TTL:PT1H
BEGIN:VTIMEZONE
TZID:Asia/Tokyo
BEGIN:STANDARD
TZOFFSETFROM:+0900
TZOFFSETTO:+0900
TZNAME:JST
DTSTART:20130101T000000
END:STANDARD
END:VTIMEZONE
BEGIN:VEVENT
DTSTART;TZID=Asia/Tokyo:20140416T220000
DTEND;TZID=Asia/Tokyo:20140417T020000
DTSTAMP:20260421T093823
CREATED:20250429T012143Z
LAST-MODIFIED:20250429T012143Z
UID:3626-1397685600-1397700000@www.dongheon.or.kr
SUMMARY:서울우유 협동조합
DESCRIPTION:서울우유 협동조합 임원 세미나
URL:https://www.dongheon.or.kr/event/%ec%84%9c%ec%9a%b8%ec%9a%b0%ec%9c%a0-%ed%98%91%eb%8f%99%ec%a1%b0%ed%95%a9/
CATEGORIES:대관
END:VEVENT
BEGIN:VEVENT
DTSTART;TZID=Asia/Tokyo:20140426T180000
DTEND;TZID=Asia/Tokyo:20140426T220000
DTSTAMP:20260421T093823
CREATED:20250429T012152Z
LAST-MODIFIED:20250429T012152Z
UID:3629-1398535200-1398549600@www.dongheon.or.kr
SUMMARY:한국전통문화아카데미
DESCRIPTION:한국전통문화아카데미 학점이수제
URL:https://www.dongheon.or.kr/event/%ed%95%9c%ea%b5%ad%ec%a0%84%ed%86%b5%eb%ac%b8%ed%99%94%ec%95%84%ec%b9%b4%eb%8d%b0%eb%af%b8-7/
CATEGORIES:대관
END:VEVENT
BEGIN:VEVENT
DTSTART;TZID=Asia/Tokyo:20140430T230000
DTEND;TZID=Asia/Tokyo:20140501T010000
DTSTAMP:20260421T093823
CREATED:20250429T012152Z
LAST-MODIFIED:20250429T012152Z
UID:3630-1398898800-1398906000@www.dongheon.or.kr
SUMMARY:전주시청 홍보실
DESCRIPTION:몽골 군수 연수단 전주 홍보동헌 대관
URL:https://www.dongheon.or.kr/event/%ec%a0%84%ec%a3%bc%ec%8b%9c%ec%b2%ad-%ed%99%8d%eb%b3%b4%ec%8b%a4/
CATEGORIES:대관
END:VEVENT
END:VCALENDAR