BEGIN:VCALENDAR
VERSION:2.0
PRODID:-//전주전통문화연수원 - ECPv6.15.15//NONSGML v1.0//EN
CALSCALE:GREGORIAN
METHOD:PUBLISH
X-ORIGINAL-URL:https://www.dongheon.or.kr
X-WR-CALDESC:전주전통문화연수원 이벤트
REFRESH-INTERVAL;VALUE=DURATION:PT1H
X-Robots-Tag:noindex
X-PUBLISHED-TTL:PT1H
BEGIN:VTIMEZONE
TZID:Asia/Tokyo
BEGIN:STANDARD
TZOFFSETFROM:+0900
TZOFFSETTO:+0900
TZNAME:JST
DTSTART:20130101T000000
END:STANDARD
END:VTIMEZONE
BEGIN:VEVENT
DTSTART;TZID=Asia/Tokyo:20140606T180000
DTEND;TZID=Asia/Tokyo:20140610T030000
DTSTAMP:20260421T065620
CREATED:20250429T012219Z
LAST-MODIFIED:20250429T012221Z
UID:3650-1402077600-1402369200@www.dongheon.or.kr
SUMMARY:전주대사습놀이
DESCRIPTION:전주대사습놀이
URL:https://www.dongheon.or.kr/event/%ec%a0%84%ec%a3%bc%eb%8c%80%ec%82%ac%ec%8a%b5%eb%86%80%ec%9d%b4-3/
CATEGORIES:대관
END:VEVENT
END:VCALENDAR