BEGIN:VCALENDAR
VERSION:2.0
PRODID:-//전주전통문화연수원 - ECPv6.15.15//NONSGML v1.0//EN
CALSCALE:GREGORIAN
METHOD:PUBLISH
X-ORIGINAL-URL:https://www.dongheon.or.kr
X-WR-CALDESC:전주전통문화연수원 이벤트
REFRESH-INTERVAL;VALUE=DURATION:PT1H
X-Robots-Tag:noindex
X-PUBLISHED-TTL:PT1H
BEGIN:VTIMEZONE
TZID:Asia/Tokyo
BEGIN:STANDARD
TZOFFSETFROM:+0900
TZOFFSETTO:+0900
TZNAME:JST
DTSTART:20140101T000000
END:STANDARD
END:VTIMEZONE
BEGIN:VEVENT
DTSTART;TZID=Asia/Tokyo:20150316T230000
DTEND;TZID=Asia/Tokyo:20150317T010000
DTSTAMP:20260420T172951
CREATED:20250429T013527Z
LAST-MODIFIED:20250429T013527Z
UID:3763-1426546800-1426554000@www.dongheon.or.kr
SUMMARY:독서동아리 길잡이 양성과정
DESCRIPTION:전주시평생학습관 사업
URL:https://www.dongheon.or.kr/event/%eb%8f%85%ec%84%9c%eb%8f%99%ec%95%84%eb%a6%ac-%ea%b8%b8%ec%9e%a1%ec%9d%b4-%ec%96%91%ec%84%b1%ea%b3%bc%ec%a0%95/
CATEGORIES:대관
END:VEVENT
BEGIN:VEVENT
DTSTART;TZID=Asia/Tokyo:20150322T230000
DTEND;TZID=Asia/Tokyo:20150323T020000
DTSTAMP:20260420T172951
CREATED:20250429T013529Z
LAST-MODIFIED:20250429T013529Z
UID:3766-1427065200-1427076000@www.dongheon.or.kr
SUMMARY:청소년 인문학 독서포럼
DESCRIPTION:전주시평생학습관 사업
URL:https://www.dongheon.or.kr/event/%ec%b2%ad%ec%86%8c%eb%85%84-%ec%9d%b8%eb%ac%b8%ed%95%99-%eb%8f%85%ec%84%9c%ed%8f%ac%eb%9f%bc-9/
CATEGORIES:대관
END:VEVENT
BEGIN:VEVENT
DTSTART;TZID=Asia/Tokyo:20150323T230000
DTEND;TZID=Asia/Tokyo:20150324T010000
DTSTAMP:20260420T172951
CREATED:20250429T013607Z
LAST-MODIFIED:20250429T013607Z
UID:3767-1427151600-1427158800@www.dongheon.or.kr
SUMMARY:독서동아리 길잡이 양성과정
DESCRIPTION:전주시평생학습관 사업
URL:https://www.dongheon.or.kr/event/%eb%8f%85%ec%84%9c%eb%8f%99%ec%95%84%eb%a6%ac-%ea%b8%b8%ec%9e%a1%ec%9d%b4-%ec%96%91%ec%84%b1%ea%b3%bc%ec%a0%95-2/
CATEGORIES:대관
END:VEVENT
BEGIN:VEVENT
DTSTART;TZID=Asia/Tokyo:20150330T195000
DTEND;TZID=Asia/Tokyo:20150330T210000
DTSTAMP:20260420T172951
CREATED:20250429T013609Z
LAST-MODIFIED:20250429T013609Z
UID:3770-1427745000-1427749200@www.dongheon.or.kr
SUMMARY:한국슬로시티 시장･군수협의회
DESCRIPTION:2015년도 정기총회
URL:https://www.dongheon.or.kr/event/%ed%95%9c%ea%b5%ad%ec%8a%ac%eb%a1%9c%ec%8b%9c%ed%8b%b0-%ec%8b%9c%ec%9e%a5%ef%bd%a5%ea%b5%b0%ec%88%98%ed%98%91%ec%9d%98%ed%9a%8c/
CATEGORIES:대관
END:VEVENT
BEGIN:VEVENT
DTSTART;TZID=Asia/Tokyo:20150330T230000
DTEND;TZID=Asia/Tokyo:20150331T010000
DTSTAMP:20260420T172951
CREATED:20250429T013609Z
LAST-MODIFIED:20250429T013609Z
UID:3771-1427756400-1427763600@www.dongheon.or.kr
SUMMARY:독서동아리 길잡이 양성과정
DESCRIPTION:전주시평생학습관 사업
URL:https://www.dongheon.or.kr/event/%eb%8f%85%ec%84%9c%eb%8f%99%ec%95%84%eb%a6%ac-%ea%b8%b8%ec%9e%a1%ec%9d%b4-%ec%96%91%ec%84%b1%ea%b3%bc%ec%a0%95-3/
CATEGORIES:대관
END:VEVENT
END:VCALENDAR