BEGIN:VCALENDAR
VERSION:2.0
PRODID:-//전주전통문화연수원 - ECPv6.15.15//NONSGML v1.0//EN
CALSCALE:GREGORIAN
METHOD:PUBLISH
X-WR-CALNAME:전주전통문화연수원
X-ORIGINAL-URL:https://www.dongheon.or.kr
X-WR-CALDESC:전주전통문화연수원 이벤트
REFRESH-INTERVAL;VALUE=DURATION:PT1H
X-Robots-Tag:noindex
X-PUBLISHED-TTL:PT1H
BEGIN:VTIMEZONE
TZID:Asia/Tokyo
BEGIN:STANDARD
TZOFFSETFROM:+0900
TZOFFSETTO:+0900
TZNAME:JST
DTSTART:20140101T000000
END:STANDARD
END:VTIMEZONE
BEGIN:VEVENT
DTSTART;TZID=Asia/Tokyo:20150529T180000
DTEND;TZID=Asia/Tokyo:20150602T030000
DTSTAMP:20260420T123559
CREATED:20250429T013805Z
LAST-MODIFIED:20250429T013805Z
UID:3806-1432922400-1433214000@www.dongheon.or.kr
SUMMARY:전주대사습놀이
DESCRIPTION:제33회 전주대사습놀이 학생전국대회 관악부 예선제41회 전주대사습놀이 전국대회 명고수부 예선
URL:https://www.dongheon.or.kr/event/%ec%a0%84%ec%a3%bc%eb%8c%80%ec%82%ac%ec%8a%b5%eb%86%80%ec%9d%b4-4/
CATEGORIES:대관
END:VEVENT
BEGIN:VEVENT
DTSTART;TZID=Asia/Tokyo:20150614T230000
DTEND;TZID=Asia/Tokyo:20150615T020000
DTSTAMP:20260420T123559
CREATED:20250429T013809Z
LAST-MODIFIED:20250429T013809Z
UID:3810-1434322800-1434333600@www.dongheon.or.kr
SUMMARY:청소년 인문학 독서포럼
DESCRIPTION:전주시평생학습관 사업
URL:https://www.dongheon.or.kr/event/%ec%b2%ad%ec%86%8c%eb%85%84-%ec%9d%b8%eb%ac%b8%ed%95%99-%eb%8f%85%ec%84%9c%ed%8f%ac%eb%9f%bc-12/
CATEGORIES:대관
END:VEVENT
END:VCALENDAR