BEGIN:VCALENDAR
VERSION:2.0
PRODID:-//전주전통문화연수원 - ECPv6.15.15//NONSGML v1.0//EN
CALSCALE:GREGORIAN
METHOD:PUBLISH
X-ORIGINAL-URL:https://www.dongheon.or.kr
X-WR-CALDESC:전주전통문화연수원 이벤트
REFRESH-INTERVAL;VALUE=DURATION:PT1H
X-Robots-Tag:noindex
X-PUBLISHED-TTL:PT1H
BEGIN:VTIMEZONE
TZID:Asia/Tokyo
BEGIN:STANDARD
TZOFFSETFROM:+0900
TZOFFSETTO:+0900
TZNAME:JST
DTSTART:20140101T000000
END:STANDARD
END:VTIMEZONE
BEGIN:VEVENT
DTSTART;TZID=Asia/Tokyo:20150906T230000
DTEND;TZID=Asia/Tokyo:20150907T020000
DTSTAMP:20260420T072705
CREATED:20250429T013918Z
LAST-MODIFIED:20250429T013918Z
UID:3840-1441580400-1441591200@www.dongheon.or.kr
SUMMARY:청소년 인문학 독서포럼
DESCRIPTION:전주시평생학습관 사업
URL:https://www.dongheon.or.kr/event/%ec%b2%ad%ec%86%8c%eb%85%84-%ec%9d%b8%eb%ac%b8%ed%95%99-%eb%8f%85%ec%84%9c%ed%8f%ac%eb%9f%bc-14/
CATEGORIES:대관
END:VEVENT
BEGIN:VEVENT
DTSTART;TZID=Asia/Tokyo:20150913T230000
DTEND;TZID=Asia/Tokyo:20150914T020000
DTSTAMP:20260420T072705
CREATED:20250429T013928Z
LAST-MODIFIED:20250429T013928Z
UID:3846-1442185200-1442196000@www.dongheon.or.kr
SUMMARY:청소년 인문학 독서포럼
DESCRIPTION:전주시평생학습관 사업
URL:https://www.dongheon.or.kr/event/%ec%b2%ad%ec%86%8c%eb%85%84-%ec%9d%b8%eb%ac%b8%ed%95%99-%eb%8f%85%ec%84%9c%ed%8f%ac%eb%9f%bc-15/
CATEGORIES:대관
END:VEVENT
END:VCALENDAR