BEGIN:VCALENDAR
VERSION:2.0
PRODID:-//전주전통문화연수원 - ECPv6.15.15//NONSGML v1.0//EN
CALSCALE:GREGORIAN
METHOD:PUBLISH
X-ORIGINAL-URL:https://www.dongheon.or.kr
X-WR-CALDESC:전주전통문화연수원 이벤트
REFRESH-INTERVAL;VALUE=DURATION:PT1H
X-Robots-Tag:noindex
X-PUBLISHED-TTL:PT1H
BEGIN:VTIMEZONE
TZID:Asia/Tokyo
BEGIN:STANDARD
TZOFFSETFROM:+0900
TZOFFSETTO:+0900
TZNAME:JST
DTSTART:20140101T000000
END:STANDARD
END:VTIMEZONE
BEGIN:VEVENT
DTSTART;TZID=Asia/Tokyo:20151008T180000
DTEND;TZID=Asia/Tokyo:20151012T030000
DTSTAMP:20260420T053744
CREATED:20250429T013953Z
LAST-MODIFIED:20250429T013953Z
UID:3861-1444327200-1444618800@www.dongheon.or.kr
SUMMARY:전주세계소리축제
DESCRIPTION:전주세계소리축제
URL:https://www.dongheon.or.kr/event/%ec%a0%84%ec%a3%bc%ec%84%b8%ea%b3%84%ec%86%8c%eb%a6%ac%ec%b6%95%ec%a0%9c-3/
CATEGORIES:대관
END:VEVENT
BEGIN:VEVENT
DTSTART;TZID=Asia/Tokyo:20151018T230000
DTEND;TZID=Asia/Tokyo:20151019T020000
DTSTAMP:20260420T053744
CREATED:20250429T014018Z
LAST-MODIFIED:20250429T014018Z
UID:3874-1445209200-1445220000@www.dongheon.or.kr
SUMMARY:청소년 인문학 독서포럼
DESCRIPTION:전주시평생학습관 사업
URL:https://www.dongheon.or.kr/event/%ec%b2%ad%ec%86%8c%eb%85%84-%ec%9d%b8%eb%ac%b8%ed%95%99-%eb%8f%85%ec%84%9c%ed%8f%ac%eb%9f%bc-16/
CATEGORIES:대관
END:VEVENT
BEGIN:VEVENT
DTSTART;TZID=Asia/Tokyo:20151025T230000
DTEND;TZID=Asia/Tokyo:20151026T020000
DTSTAMP:20260420T053744
CREATED:20250429T014023Z
LAST-MODIFIED:20250429T014023Z
UID:3881-1445814000-1445824800@www.dongheon.or.kr
SUMMARY:청소년 인문학 독서포럼
DESCRIPTION:전주시평생학습관 사업
URL:https://www.dongheon.or.kr/event/%ec%b2%ad%ec%86%8c%eb%85%84-%ec%9d%b8%eb%ac%b8%ed%95%99-%eb%8f%85%ec%84%9c%ed%8f%ac%eb%9f%bc-17/
CATEGORIES:대관
END:VEVENT
BEGIN:VEVENT
DTSTART;TZID=Asia/Tokyo:20151028T220000
DTEND;TZID=Asia/Tokyo:20151029T030000
DTSTAMP:20260420T053744
CREATED:20250429T014025Z
LAST-MODIFIED:20250429T014025Z
UID:3883-1446069600-1446087600@www.dongheon.or.kr
SUMMARY:전라북도도립국악원
DESCRIPTION:전라북도도립국악원 학술세미나
URL:https://www.dongheon.or.kr/event/%ec%a0%84%eb%9d%bc%eb%b6%81%eb%8f%84%eb%8f%84%eb%a6%bd%ea%b5%ad%ec%95%85%ec%9b%90/
CATEGORIES:대관
END:VEVENT
BEGIN:VEVENT
DTSTART;TZID=Asia/Tokyo:20151031T230000
DTEND;TZID=Asia/Tokyo:20151101T020000
DTSTAMP:20260420T053744
CREATED:20250429T014032Z
LAST-MODIFIED:20250429T014032Z
UID:3888-1446332400-1446343200@www.dongheon.or.kr
SUMMARY:청소년 인문학 독서포럼
DESCRIPTION:전주시평생학습관 사업
URL:https://www.dongheon.or.kr/event/%ec%b2%ad%ec%86%8c%eb%85%84-%ec%9d%b8%eb%ac%b8%ed%95%99-%eb%8f%85%ec%84%9c%ed%8f%ac%eb%9f%bc-18/
CATEGORIES:대관
END:VEVENT
END:VCALENDAR