BEGIN:VCALENDAR
VERSION:2.0
PRODID:-//전주전통문화연수원 - ECPv6.15.15//NONSGML v1.0//EN
CALSCALE:GREGORIAN
METHOD:PUBLISH
X-WR-CALNAME:전주전통문화연수원
X-ORIGINAL-URL:https://www.dongheon.or.kr
X-WR-CALDESC:전주전통문화연수원 이벤트
REFRESH-INTERVAL;VALUE=DURATION:PT1H
X-Robots-Tag:noindex
X-PUBLISHED-TTL:PT1H
BEGIN:VTIMEZONE
TZID:Asia/Tokyo
BEGIN:STANDARD
TZOFFSETFROM:+0900
TZOFFSETTO:+0900
TZNAME:JST
DTSTART:20250101T000000
END:STANDARD
END:VTIMEZONE
BEGIN:VEVENT
DTSTART;VALUE=DATE:20260418
DTEND;VALUE=DATE:20260420
DTSTAMP:20260419T215158
CREATED:20260316T073935Z
LAST-MODIFIED:20260316T074012Z
UID:5755-1776470400-1776643199@www.dongheon.or.kr
SUMMARY:성인 연수
DESCRIPTION:
URL:https://www.dongheon.or.kr/event/%ec%84%b1%ec%9d%b8-%ec%97%b0%ec%88%98-30/
CATEGORIES:연수
END:VEVENT
END:VCALENDAR